BEGIN:VCALENDAR
VERSION:2.0
PRODID:-//[DEV] Kleingärtnerverein Harthauer Hang Chemnitz e.V.//NONSGML ki
 gkonsult.se iCalcreator 2.30.10//
CALSCALE:GREGORIAN
METHOD:PUBLISH
UID:7338a645-99ac-487a-83fc-6d530431302a
X-WR-CALNAME:iCagenda
X-WR-CALDESC:Event Management Extension for Joomla!
X-WR-RELCALID:3E26604A-50F4-4449-8B3E-E4F4932D05B5
X-WR-TIMEZONE:Europe/Berlin
BEGIN:VTIMEZONE
TZID:Europe/Berlin
BEGIN:STANDARD
TZNAME:CET
DTSTART:20251026T030000
TZOFFSETFROM:+0200
TZOFFSETTO:+0100
RDATE:20261025T030000
RDATE:20271031T030000
END:STANDARD
BEGIN:DAYLIGHT
TZNAME:CEST
DTSTART:20260329T020000
TZOFFSETFROM:+0100
TZOFFSETTO:+0200
RDATE:20270328T020000
END:DAYLIGHT
END:VTIMEZONE
BEGIN:VEVENT
UID:67a63b70-95fc-4763-a214-1f7696e1bd85
DTSTAMP:20260423T090337Z
CATEGORIES:Veranstaltung
CLASS:PUBLIC
DESCRIPTION;ALTREP="CID:<FFFF__=0ABBE548DFE235B58f9e8a93d@coffeebean.com>":
 Frühschoppen an Christi Himmelfahrt\nLiebe Gartenfreunde\,\ndas Organisati
 onsteam des Kleingartenvereins \,'Harthauer-Hang' lädt Euch herzlichst zu 
 einem netten Beisammensein am 29.05.2025 ab 11:00 Uhr am Vereinsplatz ein.
 \nUnter dem Motto 'Frühschoppen an Christi Himmelfahrt' möchten wir mit Eu
 ch gemeinsam diesen einzigartigen Feiertag begehen.\nFür alle Teilnehmer i
 st zu beachten\, dass jeder für Speisen und Getränke selbst zu sorgen hat.
  Selbstverständlich können wir uns an diesem Tag in Gemeinschaft unseren V
 ereinsgrill nutzen und auch der Vereinskühlschrank ist wieder aufgefüllt.
 \nWir freuen uns über Eure Teilnahme und einem schönen Tag mit Euch gemein
 sam in unserer Gartensparte.\n Beste kleingärtnerische Grüße
DTSTART:20260529T090000Z
DTEND:20260529T090000Z
GEO:00;0
LOCATION:Vereinsplatz
ORGANIZER:
SEQUENCE:1
SUMMARY:Frühschoppen an Christi Himmelfahrt
TRANSP:OPAQUE
URL:https://www.kgvhh.lima-city.de/termine/maennertagsfruehschoppen-am-vere
 insplatz-4
END:VEVENT
END:VCALENDAR
