BEGIN:VCALENDAR
VERSION:2.0
PRODID:-//[DEV] Kleingärtnerverein Harthauer Hang Chemnitz e.V.//NONSGML ki
 gkonsult.se iCalcreator 2.30.10//
CALSCALE:GREGORIAN
METHOD:PUBLISH
UID:ea6b7f51-88ea-4322-87e5-cc41b0dcbda6
X-WR-CALNAME:iCagenda
X-WR-CALDESC:Event Management Extension for Joomla!
X-WR-RELCALID:3E26604A-50F4-4449-8B3E-E4F4932D05B5
X-WR-TIMEZONE:Europe/Berlin
BEGIN:VTIMEZONE
TZID:Europe/Berlin
BEGIN:STANDARD
TZNAME:CET
DTSTART:20251026T030000
TZOFFSETFROM:+0200
TZOFFSETTO:+0100
RDATE:20261025T030000
RDATE:20271031T030000
END:STANDARD
BEGIN:DAYLIGHT
TZNAME:CEST
DTSTART:20260329T020000
TZOFFSETFROM:+0100
TZOFFSETTO:+0200
RDATE:20270328T020000
END:DAYLIGHT
END:VTIMEZONE
BEGIN:VEVENT
UID:bdf1991d-0e33-446f-9a67-b85111a2c323
DTSTAMP:20260423T072543Z
CATEGORIES:Arbeitseinsatz
CLASS:PUBLIC
DESCRIPTION:
DTSTART:20260829T070000Z
DTEND:20260829T093000Z
GEO:00;0
LOCATION:Vereinsplatz
ORGANIZER:
SEQUENCE:1
SUMMARY:8. Arbeitseinsatz
TRANSP:OPAQUE
URL:https://www.kgvhh.lima-city.de/termine/8-arbeitseinsatz-2026
END:VEVENT
END:VCALENDAR
