BEGIN:VCALENDAR
VERSION:2.0
PRODID:-//[DEV] Kleingärtnerverein Harthauer Hang Chemnitz e.V.//NONSGML ki
 gkonsult.se iCalcreator 2.30.10//
CALSCALE:GREGORIAN
METHOD:PUBLISH
UID:5693f206-63ef-4bb7-8dfe-501ea94f842a
X-WR-CALNAME:iCagenda
X-WR-CALDESC:Event Management Extension for Joomla!
X-WR-RELCALID:3E26604A-50F4-4449-8B3E-E4F4932D05B5
X-WR-TIMEZONE:Europe/Berlin
BEGIN:VTIMEZONE
TZID:Europe/Berlin
BEGIN:STANDARD
TZNAME:CET
DTSTART:20251026T030000
TZOFFSETFROM:+0200
TZOFFSETTO:+0100
RDATE:20261025T030000
RDATE:20271031T030000
END:STANDARD
BEGIN:DAYLIGHT
TZNAME:CEST
DTSTART:20260329T020000
TZOFFSETFROM:+0100
TZOFFSETTO:+0200
RDATE:20270328T020000
END:DAYLIGHT
END:VTIMEZONE
BEGIN:VEVENT
UID:1ca9355b-a22b-468c-ba2e-6a6877e841b1
DTSTAMP:20260424T172741Z
CATEGORIES:Arbeitseinsatz
CLASS:PUBLIC
DESCRIPTION:
DTSTART:20260502T070000Z
DTEND:20260502T093000Z
GEO:00;0
LOCATION:Vereinsplatz
ORGANIZER:
SEQUENCE:1
SUMMARY:1. Arbeitseinsatz
TRANSP:OPAQUE
URL:https://www.kgvhh.lima-city.de/termine/1-arbeitseinsatz-2026
END:VEVENT
END:VCALENDAR
